BEGIN:VCALENDAR
VERSION:2.0
PRODID:-//Association of Open University Graduates - ECPv6.15.20//NONSGML v1.0//EN
CALSCALE:GREGORIAN
METHOD:PUBLISH
X-WR-CALNAME:Association of Open University Graduates
X-ORIGINAL-URL:https://www.aoug.org.uk
X-WR-CALDESC:Events for Association of Open University Graduates
REFRESH-INTERVAL;VALUE=DURATION:PT1H
X-Robots-Tag:noindex
X-PUBLISHED-TTL:PT1H
BEGIN:VTIMEZONE
TZID:Europe/London
BEGIN:DAYLIGHT
TZOFFSETFROM:+0000
TZOFFSETTO:+0100
TZNAME:BST
DTSTART:20250330T010000
END:DAYLIGHT
BEGIN:STANDARD
TZOFFSETFROM:+0100
TZOFFSETTO:+0000
TZNAME:GMT
DTSTART:20251026T010000
END:STANDARD
BEGIN:DAYLIGHT
TZOFFSETFROM:+0000
TZOFFSETTO:+0100
TZNAME:BST
DTSTART:20260329T010000
END:DAYLIGHT
BEGIN:STANDARD
TZOFFSETFROM:+0100
TZOFFSETTO:+0000
TZNAME:GMT
DTSTART:20261025T010000
END:STANDARD
BEGIN:DAYLIGHT
TZOFFSETFROM:+0000
TZOFFSETTO:+0100
TZNAME:BST
DTSTART:20270328T010000
END:DAYLIGHT
BEGIN:STANDARD
TZOFFSETFROM:+0100
TZOFFSETTO:+0000
TZNAME:GMT
DTSTART:20271031T010000
END:STANDARD
END:VTIMEZONE
BEGIN:VEVENT
DTSTART;TZID=Europe/London:20260523T110000
DTEND;TZID=Europe/London:20260523T110000
DTSTAMP:20260420T152747
CREATED:20260406T202249Z
LAST-MODIFIED:20260406T202249Z
UID:5835-1779534000-1779534000@www.aoug.org.uk
SUMMARY:Town Explore and 'Hop on Hop off' bus  - 08 - Chester
DESCRIPTION:Saturday 23rd May. 11am\nMeet at the Café 1092 in Chester Cathedral before a walk around Chester followed by taking lunch in the main town. \nA sightseeing bus ‘Hop on and Hop off’ tour could then be enjoyed.
URL:https://www.aoug.org.uk/event/town-explore-and-hop-on-hop-off-bus-08-chester/
LOCATION:Chester Cathedral\, St Werburgh's Street\, Chester\, CH1 2DY
CATEGORIES:08 North West
ORGANIZER;CN="Margaret Stobirski":MAILTO:margaretstobirski@gmail.com
END:VEVENT
BEGIN:VEVENT
DTSTART;TZID=Europe/London:20260527T110000
DTEND;TZID=Europe/London:20260527T110000
DTSTAMP:20260420T152747
CREATED:20251228T123238Z
LAST-MODIFIED:20260405T143745Z
UID:5441-1779879600-1779879600@www.aoug.org.uk
SUMMARY:Uppark House - Petersfield - 02
DESCRIPTION:Wednesday  27th May. 11am  \nPlease note the amended date  \nMeet at the entrance to Uppark House\, (National Trust) GU31 5QR; this is off the B2146 road from Petersfield\, five miles distance. An irregular bus service 54 is the nearest public transport. Uppark is a fine country house\, built in 1690\, set in large grounds\, with outstanding views across the South Downs. Guided tours of the house (£10 in 2025) must be booked in advance via https://www.nationaltrust-tickets.org.uk/event-tickets; alternatively\, join us for a light lunch about 1pm.
URL:https://www.aoug.org.uk/event/uppark-house-petersfield-02/
LOCATION:Uppark House\, Near Petersfield\, GU31 5QR
CATEGORIES:02 South
END:VEVENT
BEGIN:VEVENT
DTSTART;TZID=Europe/London:20260528T120000
DTEND;TZID=Europe/London:20260528T120000
DTSTAMP:20260420T152747
CREATED:20260405T162029Z
LAST-MODIFIED:20260405T162029Z
UID:5799-1779969600-1779969600@www.aoug.org.uk
SUMMARY:Norwich Castle - 06 - Norwich
DESCRIPTION:Thursday 28th May. 12noon\nMeet for coffee\, or an early lunch\, in the Castle Café\, Norwich Castle\, Castle Street\, Norwich NR1 3JU before we visit Norwich Castle itself which has recently been renovated. \nIf you want to join us just for the Castle visit\, please let me know in advance and we will meet you in the Café at 1pm. Norwich Castle has a spectacular medieval keep and galleries covering subjects such as Natural History\, Art and Regimental History. \n2025 entry prices were £17.00 for adults but a discount is available if tickets are booked at least twenty four hours in advance https://www.norwichcastle.norfolk.gov.uk/article/30296/Admission-prices-and-book-tickets-for-Norwich-Castle. There are some concessions available\, although not a senior rate – please check the website for availability.
URL:https://www.aoug.org.uk/event/norwich-castle-06-norwich/
LOCATION:Norwich Castle\, Castle Street\, Norwich\, NR1 3JU
CATEGORIES:06 East of England
ORGANIZER;CN="Jayne Littlejohn":MAILTO:jayne.littlejohn52@gmail.com
END:VEVENT
BEGIN:VEVENT
DTSTART;TZID=Europe/London:20260604T140000
DTEND;TZID=Europe/London:20260604T140000
DTSTAMP:20260420T152747
CREATED:20260405T153638Z
LAST-MODIFIED:20260405T153638Z
UID:5767-1780581600-1780581600@www.aoug.org.uk
SUMMARY:Beckonscot Model Village - 02 - Beaconsfield
DESCRIPTION:Thursday 4th June. 2pm.\nMeet at the entrance of Bekonscot Model Village\, Warwick Road\, Beaconsfield\, Buckinghamshire\, HP9 2PL. Beaconsfield station is a short child friendly walk away and is on the Chiltern line. Book online at least forty-eight hours in advance and enjoy 10% off the standard ticket price.
URL:https://www.aoug.org.uk/event/beckonscot-model-village-02-beaconsfield/
LOCATION:Bekonscot Model Village\, Warwick Road\, Beaconsfield\, HP9 2PI
CATEGORIES:02 South
END:VEVENT
END:VCALENDAR